BEGIN:VCALENDAR
VERSION:2.0
PRODID:calendify.com
BEGIN:VEVENT
UID:calendify-session-LPGMzQNLONd
DTSTART:20240330T150000Z
SEQUENCE:0
TRANSP:OPAQUE
DTEND:20240330T170000Z
URL:https://calendify.com/session/LPGMzQNLONd
LOCATION:Party Praetoria (Ohren) - E007
SUMMARY:DJ Talk & Connect
CLASS:PUBLIC
DESCRIPTION:https://calendify.com/session/LPGMzQNLONd
DTSTAMP:20260424T003624Z
CREATED:20240329T152817Z
LAST-MODIFIED:20240401T142841Z
END:VEVENT
END:VCALENDAR