BEGIN:VCALENDAR
VERSION:2.0
PRODID:calendify.com
BEGIN:VEVENT
UID:calendify-session-LPGMzQVAONd
DTSTART:20231227T183000Z
SEQUENCE:0
TRANSP:OPAQUE
DTEND:20231227T200000Z
URL:https://calendify.com/session/LPGMzQVAONd
LOCATION:Stonewall IO
SUMMARY:Offene Workshop-Sessions Tag 1 | Open workshop sessions day 1
CLASS:PUBLIC
DESCRIPTION:https://calendify.com/session/LPGMzQVAONd
DTSTAMP:20260424T014911Z
CREATED:20231219T100104Z
LAST-MODIFIED:20240401T142932Z
END:VEVENT
END:VCALENDAR