BEGIN:VCALENDAR
VERSION:2.0
PRODID:calendify.com
BEGIN:VEVENT
UID:calendify-session-LPGMzQXkONd
DTSTART:20231229T230000Z
SEQUENCE:0
TRANSP:OPAQUE
DTEND:20231230T000000Z
URL:https://calendify.com/session/LPGMzQXkONd
LOCATION:Saal E
SUMMARY:Über die Hintergründe von Religionen\, Hierarchien und klassische
 n Gesellschaftsstruktern
CLASS:PUBLIC
DESCRIPTION:https://calendify.com/session/LPGMzQXkONd
DTSTAMP:20260423T031127Z
CREATED:20231224T230004Z
LAST-MODIFIED:20240401T142932Z
END:VEVENT
END:VCALENDAR