BEGIN:VCALENDAR
VERSION:2.0
PRODID:calendify.com
BEGIN:VEVENT
UID:calendify-session-LPGMzQZaONd
DTSTART:20231231T030000Z
SEQUENCE:0
TRANSP:OPAQUE
DTEND:20231231T045900Z
URL:https://calendify.com/session/LPGMzQZaONd
LOCATION:Lounge
SUMMARY:dj smut
CLASS:PUBLIC
DESCRIPTION:https://calendify.com/session/LPGMzQZaONd
DTSTAMP:20260423T044045Z
CREATED:20231228T190004Z
LAST-MODIFIED:20240401T142934Z
END:VEVENT
END:VCALENDAR