BEGIN:VCALENDAR
VERSION:2.0
PRODID:calendify.com
BEGIN:VEVENT
UID:calendify-session-LPGMzQmLONd
DTSTART:20230902T100000Z
SEQUENCE:0
TRANSP:OPAQUE
DTEND:20230902T103000Z
URL:https://calendify.com/session/LPGMzQmLONd
LOCATION:C205 - Gehirnwäscher
SUMMARY:What if we could just ask AI to be less biased?
CLASS:PUBLIC
DESCRIPTION:https://calendify.com/session/LPGMzQmLONd
DTSTAMP:20260422T182744Z
CREATED:20240328T132702Z
LAST-MODIFIED:20240328T132702Z
END:VEVENT
END:VCALENDAR