BEGIN:VCALENDAR
VERSION:2.0
PRODID:calendify.com
BEGIN:VEVENT
UID:calendify-session-LPGMzRE2MNd
DTSTART:20241229T180000Z
SEQUENCE:0
TRANSP:OPAQUE
DTEND:20241229T210000Z
URL:https://calendify.com/session/LPGMzRE2MNd
LOCATION:Call for Art (Eingangshalle)
SUMMARY:PrintCycle day3.2
CLASS:PUBLIC
DESCRIPTION:https://calendify.com/session/LPGMzRE2MNd
DTSTAMP:20260423T134107Z
CREATED:20241227T141515Z
LAST-MODIFIED:20250101T225003Z
END:VEVENT
END:VCALENDAR