BEGIN:VCALENDAR
VERSION:2.0
PRODID:calendify.com
BEGIN:VEVENT
UID:calendify-session-LPGMza32ONd
DTSTART:20161229T210000Z
SEQUENCE:0
TRANSP:OPAQUE
DTEND:20161229T213000Z
URL:https://calendify.com/session/LPGMza32ONd
LOCATION:Saal 6
SUMMARY:Hacking collective as a laboratory
CLASS:PUBLIC
DESCRIPTION:https://calendify.com/session/LPGMza32ONd
DTSTAMP:20260422T095100Z
CREATED:20220415T135303Z
LAST-MODIFIED:20220415T135303Z
END:VEVENT
END:VCALENDAR