BEGIN:VCALENDAR
VERSION:2.0
PRODID:calendify.com
BEGIN:VEVENT
UID:calendify-session-LPGMzaA2ONd
DTSTART:20220609T180000Z
SEQUENCE:0
TRANSP:OPAQUE
DTEND:20220609T190000Z
URL:https://calendify.com/session/LPGMzaA2ONd
LOCATION:Stage 5
SUMMARY:Community-Karaoke
CLASS:PUBLIC
DESCRIPTION:https://calendify.com/session/LPGMzaA2ONd
DTSTAMP:20260423T122140Z
CREATED:20220609T184952Z
LAST-MODIFIED:20220613T235205Z
END:VEVENT
END:VCALENDAR