BEGIN:VCALENDAR
VERSION:2.0
PRODID:calendify.com
BEGIN:VEVENT
UID:calendify-session-LPGMzaEkONd
DTSTART:20161227T154500Z
SEQUENCE:0
TRANSP:OPAQUE
DTEND:20161227T161500Z
URL:https://calendify.com/session/LPGMzaEkONd
LOCATION:Saal G
SUMMARY:Kampf dem Abmahnunwesen
CLASS:PUBLIC
DESCRIPTION:https://calendify.com/session/LPGMzaEkONd
DTSTAMP:20260423T134641Z
CREATED:20220415T135302Z
LAST-MODIFIED:20220415T135302Z
END:VEVENT
END:VCALENDAR