BEGIN:VCALENDAR
VERSION:2.0
PRODID:calendify.com
BEGIN:VEVENT
UID:calendify-session-LPGMzaQ2ONd
DTSTART:20161228T193000Z
SEQUENCE:0
TRANSP:OPAQUE
DTEND:20161228T203000Z
URL:https://calendify.com/session/LPGMzaQ2ONd
LOCATION:Saal 6
SUMMARY:Downgrading iOS: From past to present
CLASS:PUBLIC
DESCRIPTION:https://calendify.com/session/LPGMzaQ2ONd
DTSTAMP:20260420T170815Z
CREATED:20220415T135303Z
LAST-MODIFIED:20220415T135303Z
END:VEVENT
END:VCALENDAR