BEGIN:VCALENDAR
VERSION:2.0
PRODID:calendify.com
BEGIN:VEVENT
UID:calendify-session-LPGMzaQkONd
DTSTART:20161228T173000Z
SEQUENCE:0
TRANSP:OPAQUE
DTEND:20161228T183000Z
URL:https://calendify.com/session/LPGMzaQkONd
LOCATION:Saal G
SUMMARY:On the Security and Privacy of Modern Single Sign-On in the Web
CLASS:PUBLIC
DESCRIPTION:https://calendify.com/session/LPGMzaQkONd
DTSTAMP:20260420T184752Z
CREATED:20220415T135303Z
LAST-MODIFIED:20220415T135303Z
END:VEVENT
END:VCALENDAR