BEGIN:VCALENDAR
VERSION:2.0
PRODID:calendify.com
BEGIN:VEVENT
UID:calendify-session-LPGMzaZoONd
DTSTART:20220610T114500Z
SEQUENCE:0
TRANSP:OPAQUE
DTEND:20220610T124500Z
URL:https://calendify.com/session/LPGMzaZoONd
LOCATION:Stage 2
SUMMARY:Erinnern mit Games - Digitale Erinnerungskultur und die Aufarbeitun
 g des Nationalsozialismus
CLASS:PUBLIC
DESCRIPTION:https://calendify.com/session/LPGMzaZoONd
DTSTAMP:20260424T014238Z
CREATED:20220526T162947Z
LAST-MODIFIED:20220613T235204Z
END:VEVENT
END:VCALENDAR