BEGIN:VCALENDAR
VERSION:2.0
PRODID:calendify.com
BEGIN:VEVENT
UID:calendify-session-LPGMzay8ONd
DTSTART:20220609T144500Z
SEQUENCE:0
TRANSP:OPAQUE
DTEND:20220609T151500Z
URL:https://calendify.com/session/LPGMzay8ONd
LOCATION:Stage 6
SUMMARY:Das Ethos der Tech Workers: Formation einer digitalen Mittelklasse
CLASS:PUBLIC
DESCRIPTION:https://calendify.com/session/LPGMzay8ONd
DTSTAMP:20260419T133943Z
CREATED:20220526T162945Z
LAST-MODIFIED:20220613T235204Z
END:VEVENT
END:VCALENDAR