BEGIN:VCALENDAR
VERSION:2.0
PRODID:calendify.com
BEGIN:VEVENT
UID:calendify-session-LPGMze0kONd
DTSTART:20211229T052000Z
SEQUENCE:0
TRANSP:OPAQUE
DTEND:20211229T092000Z
URL:https://calendify.com/session/LPGMze0kONd
LOCATION:Abchillgleis
SUMMARY:translucid
CLASS:PUBLIC
DESCRIPTION:https://calendify.com/session/LPGMze0kONd
DTSTAMP:20260420T140447Z
CREATED:20211226T213002Z
LAST-MODIFIED:20211230T225002Z
END:VEVENT
END:VCALENDAR