BEGIN:VCALENDAR
VERSION:2.0
PRODID:calendify.com
BEGIN:VEVENT
UID:calendify-session-LPGMzeE5ONd
DTSTART:20210318T144500Z
SEQUENCE:0
TRANSP:OPAQUE
DTEND:20210318T154500Z
URL:https://calendify.com/session/LPGMzeE5ONd
LOCATION:Zoom Room 4B
SUMMARY:Demystifying the use of AI in Africa
CLASS:PUBLIC
DESCRIPTION:https://calendify.com/session/LPGMzeE5ONd
DTSTAMP:20260422T095653Z
CREATED:20210426T094929Z
LAST-MODIFIED:20210426T094929Z
END:VEVENT
END:VCALENDAR