BEGIN:VCALENDAR
VERSION:2.0
PRODID:calendify.com
BEGIN:VEVENT
UID:calendify-session-LPGMzeKLONd
DTSTART:20211025T160000Z
SEQUENCE:0
TRANSP:OPAQUE
DTEND:20211025T164500Z
URL:https://calendify.com/session/LPGMzeKLONd
LOCATION:Stream
SUMMARY:Datenschutz Wildlife
CLASS:PUBLIC
DESCRIPTION:https://calendify.com/session/LPGMzeKLONd
DTSTAMP:20260422T203810Z
CREATED:20210916T064746Z
LAST-MODIFIED:20211101T215003Z
END:VEVENT
END:VCALENDAR