BEGIN:VCALENDAR
VERSION:2.0
PRODID:calendify.com
BEGIN:VEVENT
UID:calendify-session-LPGMzek2ONd
DTSTART:20210311T201500Z
SEQUENCE:0
TRANSP:OPAQUE
DTEND:20210311T211500Z
URL:https://calendify.com/session/LPGMzek2ONd
LOCATION:Broadcast Talks
SUMMARY:Hunting Biased Algorithms: A Dialogues & Debate conversation
CLASS:PUBLIC
DESCRIPTION:https://calendify.com/session/LPGMzek2ONd
DTSTAMP:20260422T135701Z
CREATED:20210426T094928Z
LAST-MODIFIED:20210426T094928Z
END:VEVENT
END:VCALENDAR