BEGIN:VCALENDAR
VERSION:2.0
PRODID:calendify.com
BEGIN:VEVENT
UID:calendify-session-LPGMzem0ONd
DTSTART:20220205T154000Z
SEQUENCE:0
TRANSP:OPAQUE
DTEND:20220205T160500Z
URL:https://calendify.com/session/LPGMzem0ONd
LOCATION:D.mariadb
SUMMARY:More on bpftrace for MariaDB DBAs and Developers
CLASS:PUBLIC
DESCRIPTION:https://calendify.com/session/LPGMzem0ONd
DTSTAMP:20260422T164641Z
CREATED:20220120T214603Z
LAST-MODIFIED:20220206T225002Z
END:VEVENT
END:VCALENDAR