BEGIN:VCALENDAR
VERSION:2.0
PRODID:calendify.com
BEGIN:VEVENT
UID:calendify-session-LPGMzem5ONd
DTSTART:20220205T144500Z
SEQUENCE:0
TRANSP:OPAQUE
DTEND:20220205T153000Z
URL:https://calendify.com/session/LPGMzem5ONd
LOCATION:D.microkernel
SUMMARY:The Composite Component-Based OS
CLASS:PUBLIC
DESCRIPTION:https://calendify.com/session/LPGMzem5ONd
DTSTAMP:20260422T164113Z
CREATED:20220120T214603Z
LAST-MODIFIED:20220206T225002Z
END:VEVENT
END:VCALENDAR