BEGIN:VCALENDAR
VERSION:2.0
PRODID:calendify.com
BEGIN:VEVENT
UID:calendify-session-LPGMzer2ONd
DTSTART:20220205T133000Z
SEQUENCE:0
TRANSP:OPAQUE
DTEND:20220205T140000Z
URL:https://calendify.com/session/LPGMzer2ONd
LOCATION:D.embedded
SUMMARY:Bringing RAUC A/B Updates to More Linux Devices
CLASS:PUBLIC
DESCRIPTION:https://calendify.com/session/LPGMzer2ONd
DTSTAMP:20260422T085640Z
CREATED:20220120T214602Z
LAST-MODIFIED:20220206T225002Z
END:VEVENT
END:VCALENDAR