BEGIN:VCALENDAR
VERSION:2.0
PRODID:calendify.com
BEGIN:VEVENT
UID:calendify-session-LPGMzeyAONd
DTSTART:20211230T210000Z
SEQUENCE:0
TRANSP:OPAQUE
DTEND:20211230T230000Z
URL:https://calendify.com/session/LPGMzeyAONd
LOCATION:Lichtung
SUMMARY:Maskenball
CLASS:PUBLIC
DESCRIPTION:https://calendify.com/session/LPGMzeyAONd
DTSTAMP:20260420T184407Z
CREATED:20211220T014018Z
LAST-MODIFIED:20211230T225002Z
END:VEVENT
END:VCALENDAR