BEGIN:VCALENDAR
VERSION:2.0
PRODID:calendify.com
BEGIN:VEVENT
UID:calendify-session-LPGMzjBaMNd
DTSTART:20180401T160000Z
SEQUENCE:0
TRANSP:OPAQUE
DTEND:20180401T173000Z
URL:https://calendify.com/session/LPGMzjBaMNd
LOCATION:Heisenberg 2
SUMMARY:Lightning Talks
CLASS:PUBLIC
DESCRIPTION:https://calendify.com/session/LPGMzjBaMNd
DTSTAMP:20260422T210600Z
CREATED:20200520T231946Z
LAST-MODIFIED:20200520T231946Z
END:VEVENT
END:VCALENDAR