BEGIN:VCALENDAR
VERSION:2.0
PRODID:calendify.com
BEGIN:VEVENT
UID:calendify-session-LPGMzjQRMNd
DTSTART:20171227T141500Z
SEQUENCE:0
TRANSP:OPAQUE
DTEND:20171227T151500Z
URL:https://calendify.com/session/LPGMzjQRMNd
LOCATION:Saal Dijkstra
SUMMARY:BBSs and early Internet access in the 1990ies
CLASS:PUBLIC
DESCRIPTION:https://calendify.com/session/LPGMzjQRMNd
DTSTAMP:20260424T052854Z
CREATED:20200625T113327Z
LAST-MODIFIED:20200625T113327Z
END:VEVENT
END:VCALENDAR