BEGIN:VCALENDAR
VERSION:2.0
PRODID:calendify.com
BEGIN:VEVENT
UID:calendify-session-LPGMzjd5MNd
DTSTART:20180331T180000Z
SEQUENCE:0
TRANSP:OPAQUE
DTEND:20180331T190000Z
URL:https://calendify.com/session/LPGMzjd5MNd
LOCATION:Max Planck
SUMMARY:Faire Sprache\, Schwere Sprache? – Basics und einfache Tipps zu g
 endergerechter Kommunikation
CLASS:PUBLIC
DESCRIPTION:https://calendify.com/session/LPGMzjd5MNd
DTSTAMP:20260422T222458Z
CREATED:20200520T231946Z
LAST-MODIFIED:20200520T231946Z
END:VEVENT
END:VCALENDAR