BEGIN:VCALENDAR
VERSION:2.0
PRODID:calendify.com
BEGIN:VEVENT
UID:calendify-session-LPGMzjoaMNd
DTSTART:20201227T200000Z
SEQUENCE:0
TRANSP:OPAQUE
DTEND:20201227T204000Z
URL:https://calendify.com/session/LPGMzjoaMNd
LOCATION:ChaosZone TV Stream
SUMMARY:GovData meets CivicTech – Initiativen der Kommunalen Daseinsvorso
 rge an Dritten Orten
CLASS:PUBLIC
DESCRIPTION:https://calendify.com/session/LPGMzjoaMNd
DTSTAMP:20260422T162202Z
CREATED:20201221T231541Z
LAST-MODIFIED:20211226T143440Z
END:VEVENT
END:VCALENDAR