BEGIN:VCALENDAR
VERSION:2.0
PRODID:calendify.com
BEGIN:VEVENT
UID:calendify-session-LPGMzjzLMNd
DTSTART:20201227T160000Z
SEQUENCE:0
TRANSP:OPAQUE
DTEND:20201227T163000Z
URL:https://calendify.com/session/LPGMzjzLMNd
LOCATION:Bitwäscherei Zürich
SUMMARY:Bitwäscherei - Programm Announcement
CLASS:PUBLIC
DESCRIPTION:https://calendify.com/session/LPGMzjzLMNd
DTSTAMP:20260423T162857Z
CREATED:20201226T224013Z
LAST-MODIFIED:20211226T143406Z
END:VEVENT
END:VCALENDAR