BEGIN:VCALENDAR
VERSION:2.0
PRODID:calendify.com
BEGIN:VEVENT
UID:calendify-session-LPGMzk32gNd
DTSTART:20190531T194500Z
SEQUENCE:0
TRANSP:OPAQUE
DTEND:20190531T201500Z
URL:https://calendify.com/session/LPGMzk32gNd
LOCATION:ZKM_OpenHUB
SUMMARY:Fotografie an speziellen Orten – Der Unterwasserfotograf
CLASS:PUBLIC
DESCRIPTION:https://calendify.com/session/LPGMzk32gNd
DTSTAMP:20260422T023326Z
CREATED:20200509T115104Z
LAST-MODIFIED:20200509T115104Z
END:VEVENT
END:VCALENDAR