BEGIN:VCALENDAR
VERSION:2.0
PRODID:calendify.com
BEGIN:VEVENT
UID:calendify-session-LPGMzk55gNd
DTSTART:20200202T101500Z
SEQUENCE:0
TRANSP:OPAQUE
DTEND:20200202T103500Z
URL:https://calendify.com/session/LPGMzk55gNd
LOCATION:UD2.208 (Decroly)
SUMMARY:Crossing the Bifröst - Bridging All The Things with Matrix
CLASS:PUBLIC
DESCRIPTION:https://calendify.com/session/LPGMzk55gNd
DTSTAMP:20260424T025054Z
CREATED:20200513T234735Z
LAST-MODIFIED:20210426T093310Z
END:VEVENT
END:VCALENDAR