BEGIN:VCALENDAR
VERSION:2.0
PRODID:calendify.com
BEGIN:VEVENT
UID:calendify-session-LPGMzkLAgNd
DTSTART:20200202T091000Z
SEQUENCE:0
TRANSP:OPAQUE
DTEND:20200202T093000Z
URL:https://calendify.com/session/LPGMzkLAgNd
LOCATION:H.1308 (Rolin)
SUMMARY:Evolution of path based Geo-replication in Gluster
CLASS:PUBLIC
DESCRIPTION:https://calendify.com/session/LPGMzkLAgNd
DTSTAMP:20260421T050723Z
CREATED:20200513T234731Z
LAST-MODIFIED:20210426T093308Z
END:VEVENT
END:VCALENDAR