BEGIN:VCALENDAR
VERSION:2.0
PRODID:calendify.com
BEGIN:VEVENT
UID:calendify-session-LPGMzkP7gNd
DTSTART:20180512T123000Z
SEQUENCE:0
TRANSP:OPAQUE
DTEND:20180512T153000Z
URL:https://calendify.com/session/LPGMzkP7gNd
LOCATION:ZKM_CodeHUB
SUMMARY:Building your Pen & Paper world
CLASS:PUBLIC
DESCRIPTION:https://calendify.com/session/LPGMzkP7gNd
DTSTAMP:20260422T015357Z
CREATED:20200513T011828Z
LAST-MODIFIED:20200513T011828Z
END:VEVENT
END:VCALENDAR