BEGIN:VCALENDAR
VERSION:2.0
PRODID:calendify.com
BEGIN:VEVENT
UID:calendify-session-LPGMzkX7gNd
DTSTART:20200201T122000Z
SEQUENCE:0
TRANSP:OPAQUE
DTEND:20200201T123500Z
URL:https://calendify.com/session/LPGMzkX7gNd
LOCATION:H.2215 (Ferrer)
SUMMARY:Next\, the programmable web browser
CLASS:PUBLIC
DESCRIPTION:https://calendify.com/session/LPGMzkX7gNd
DTSTAMP:20260422T192329Z
CREATED:20200513T234730Z
LAST-MODIFIED:20210426T093308Z
END:VEVENT
END:VCALENDAR