BEGIN:VCALENDAR
VERSION:2.0
PRODID:calendify.com
BEGIN:VEVENT
UID:calendify-session-LPGMzkXLgNd
DTSTART:20200201T162000Z
SEQUENCE:0
TRANSP:OPAQUE
DTEND:20200201T163500Z
URL:https://calendify.com/session/LPGMzkXLgNd
LOCATION:H.2215 (Ferrer)
SUMMARY:Gate project
CLASS:PUBLIC
DESCRIPTION:https://calendify.com/session/LPGMzkXLgNd
DTSTAMP:20260424T033239Z
CREATED:20200513T234730Z
LAST-MODIFIED:20210426T093308Z
END:VEVENT
END:VCALENDAR