BEGIN:VCALENDAR
VERSION:2.0
PRODID:calendify.com
BEGIN:VEVENT
UID:calendify-session-LPGMzkY0gNd
DTSTART:20200202T103000Z
SEQUENCE:0
TRANSP:OPAQUE
DTEND:20200202T110000Z
URL:https://calendify.com/session/LPGMzkY0gNd
LOCATION:UB2.252A (Lameere)
SUMMARY:From Go to Kubernetes CRDs and Back
CLASS:PUBLIC
DESCRIPTION:https://calendify.com/session/LPGMzkY0gNd
DTSTAMP:20260423T061325Z
CREATED:20200513T234735Z
LAST-MODIFIED:20210426T093310Z
END:VEVENT
END:VCALENDAR