BEGIN:VCALENDAR
VERSION:2.0
PRODID:calendify.com
BEGIN:VEVENT
UID:calendify-session-LPGMzkZRgNd
DTSTART:20200201T103000Z
SEQUENCE:0
TRANSP:OPAQUE
DTEND:20200201T105500Z
URL:https://calendify.com/session/LPGMzkZRgNd
LOCATION:UB2.252A (Lameere)
SUMMARY:How to write a scikit-learn compatible estimator/transformer
CLASS:PUBLIC
DESCRIPTION:https://calendify.com/session/LPGMzkZRgNd
DTSTAMP:20260422T202022Z
CREATED:20200513T234730Z
LAST-MODIFIED:20210426T093308Z
END:VEVENT
END:VCALENDAR