BEGIN:VCALENDAR
VERSION:2.0
PRODID:calendify.com
BEGIN:VEVENT
UID:calendify-session-LPGMzkZogNd
DTSTART:20200201T163000Z
SEQUENCE:0
TRANSP:OPAQUE
DTEND:20200201T165500Z
URL:https://calendify.com/session/LPGMzkZogNd
LOCATION:UB2.252A (Lameere)
SUMMARY:repcloud
CLASS:PUBLIC
DESCRIPTION:https://calendify.com/session/LPGMzkZogNd
DTSTAMP:20260422T184838Z
CREATED:20200513T234730Z
LAST-MODIFIED:20210426T093308Z
END:VEVENT
END:VCALENDAR