BEGIN:VCALENDAR
VERSION:2.0
PRODID:calendify.com
BEGIN:VEVENT
UID:calendify-session-LPGMzknRgNd
DTSTART:20200201T115500Z
SEQUENCE:0
TRANSP:OPAQUE
DTEND:20200201T123500Z
URL:https://calendify.com/session/LPGMzknRgNd
LOCATION:K.4.201
SUMMARY:LLVM and GCC
CLASS:PUBLIC
DESCRIPTION:https://calendify.com/session/LPGMzknRgNd
DTSTAMP:20260423T180356Z
CREATED:20200513T234730Z
LAST-MODIFIED:20210426T093308Z
END:VEVENT
END:VCALENDAR