BEGIN:VCALENDAR
VERSION:2.0
PRODID:calendify.com
BEGIN:VEVENT
UID:calendify-session-LPGMzky8gNd
DTSTART:20200201T093000Z
SEQUENCE:0
TRANSP:OPAQUE
DTEND:20200201T095500Z
URL:https://calendify.com/session/LPGMzky8gNd
LOCATION:AW1.120
SUMMARY:Building a distributed knowledge base with a Linked Data powered CM
 S
CLASS:PUBLIC
DESCRIPTION:https://calendify.com/session/LPGMzky8gNd
DTSTAMP:20260421T131101Z
CREATED:20200513T234730Z
LAST-MODIFIED:20210426T093308Z
END:VEVENT
END:VCALENDAR