BEGIN:VCALENDAR
VERSION:2.0
PRODID:calendify.com
BEGIN:VEVENT
UID:calendify-session-LPGMzp6a4Nd
DTSTART:20260201T080000Z
SEQUENCE:0
TRANSP:OPAQUE
DTEND:20260201T081000Z
URL:https://calendify.com/session/LPGMzp6a4Nd
LOCATION:UA2.220 (Guillissen)
SUMMARY:Welcome to the Audio\, Video & Graphics Creation
CLASS:PUBLIC
DESCRIPTION:https://calendify.com/session/LPGMzp6a4Nd
DTSTAMP:20260420T083522Z
CREATED:20260131T063319Z
LAST-MODIFIED:20260201T163232Z
END:VEVENT
END:VCALENDAR