BEGIN:VCALENDAR
VERSION:2.0
PRODID:calendify.com
BEGIN:VEVENT
UID:calendify-session-LPGMzq05ONd
DTSTART:20210206T120000Z
SEQUENCE:0
TRANSP:OPAQUE
DTEND:20210206T130000Z
URL:https://calendify.com/session/LPGMzq05ONd
LOCATION:S.appinventor
SUMMARY:Expanding App Inventor with Extensions
CLASS:PUBLIC
DESCRIPTION:https://calendify.com/session/LPGMzq05ONd
DTSTAMP:20260422T100047Z
CREATED:20210205T153305Z
LAST-MODIFIED:20210208T224803Z
END:VEVENT
END:VCALENDAR