BEGIN:VCALENDAR
VERSION:2.0
PRODID:calendify.com
BEGIN:VEVENT
UID:calendify-session-LPGMzqE7ONd
DTSTART:20210206T112000Z
SEQUENCE:0
TRANSP:OPAQUE
DTEND:20210206T114500Z
URL:https://calendify.com/session/LPGMzqE7ONd
LOCATION:D.research
SUMMARY:Collaborating to describe datasets using Frictionless Data schemas:
  schema-collaboration
CLASS:PUBLIC
DESCRIPTION:https://calendify.com/session/LPGMzqE7ONd
DTSTAMP:20260423T214830Z
CREATED:20210111T170319Z
LAST-MODIFIED:20210208T224803Z
END:VEVENT
END:VCALENDAR