BEGIN:VCALENDAR
VERSION:2.0
PRODID:calendify.com
BEGIN:VEVENT
UID:calendify-session-LPGMzqELONd
DTSTART:20210206T154000Z
SEQUENCE:0
TRANSP:OPAQUE
DTEND:20210206T160500Z
URL:https://calendify.com/session/LPGMzqELONd
LOCATION:D.research
SUMMARY:Datasette
CLASS:PUBLIC
DESCRIPTION:https://calendify.com/session/LPGMzqELONd
DTSTAMP:20260423T134700Z
CREATED:20210111T170319Z
LAST-MODIFIED:20210208T224803Z
END:VEVENT
END:VCALENDAR