BEGIN:VCALENDAR
VERSION:2.0
PRODID:calendify.com
BEGIN:VEVENT
UID:calendify-session-LPGMzqG0ONd
DTSTART:20210206T160000Z
SEQUENCE:0
TRANSP:OPAQUE
DTEND:20210206T161500Z
URL:https://calendify.com/session/LPGMzqG0ONd
LOCATION:S.checkmk
SUMMARY:Bridging the gap between ITOps and DevOps
CLASS:PUBLIC
DESCRIPTION:https://calendify.com/session/LPGMzqG0ONd
DTSTAMP:20260420T011813Z
CREATED:20210130T190821Z
LAST-MODIFIED:20210208T224803Z
END:VEVENT
END:VCALENDAR