BEGIN:VCALENDAR
VERSION:2.0
PRODID:calendify.com
BEGIN:VEVENT
UID:calendify-session-LPGMzqPkONd
DTSTART:20210206T132000Z
SEQUENCE:0
TRANSP:OPAQUE
DTEND:20210206T134000Z
URL:https://calendify.com/session/LPGMzqPkONd
LOCATION:L.lightningtalks
SUMMARY:chezmoi: manage your dotfiles across multiple\, diverse machines\, 
 securely.
CLASS:PUBLIC
DESCRIPTION:https://calendify.com/session/LPGMzqPkONd
DTSTAMP:20260422T181014Z
CREATED:20210114T155442Z
LAST-MODIFIED:20210208T224802Z
END:VEVENT
END:VCALENDAR