BEGIN:VCALENDAR
VERSION:2.0
PRODID:calendify.com
BEGIN:VEVENT
UID:calendify-session-LPGMzqXkONd
DTSTART:20210207T150000Z
SEQUENCE:0
TRANSP:OPAQUE
DTEND:20210207T153000Z
URL:https://calendify.com/session/LPGMzqXkONd
LOCATION:D.python
SUMMARY:Inventing Curriculum using Python and spaCy
CLASS:PUBLIC
DESCRIPTION:https://calendify.com/session/LPGMzqXkONd
DTSTAMP:20260419T224439Z
CREATED:20210114T155443Z
LAST-MODIFIED:20210208T224804Z
END:VEVENT
END:VCALENDAR