BEGIN:VCALENDAR
VERSION:2.0
PRODID:calendify.com
BEGIN:VEVENT
UID:calendify-session-LPGMzqqaONd
DTSTART:20210206T113000Z
SEQUENCE:0
TRANSP:OPAQUE
DTEND:20210206T115500Z
URL:https://calendify.com/session/LPGMzqqaONd
LOCATION:D.distributions
SUMMARY:An User & Developer Perspective on Immutable OSes
CLASS:PUBLIC
DESCRIPTION:https://calendify.com/session/LPGMzqqaONd
DTSTAMP:20260420T111715Z
CREATED:20210111T170318Z
LAST-MODIFIED:20210208T224802Z
END:VEVENT
END:VCALENDAR