BEGIN:VCALENDAR
VERSION:2.0
PRODID:calendify.com
BEGIN:VEVENT
UID:calendify-session-LPGMzqy0ONd
DTSTART:20210206T083000Z
SEQUENCE:0
TRANSP:OPAQUE
DTEND:20210206T090000Z
URL:https://calendify.com/session/LPGMzqy0ONd
LOCATION:S.openuk
SUMMARY:Welcome to the stand for OpenUK
CLASS:PUBLIC
DESCRIPTION:https://calendify.com/session/LPGMzqy0ONd
DTSTAMP:20260423T051849Z
CREATED:20210125T190821Z
LAST-MODIFIED:20210208T224803Z
END:VEVENT
END:VCALENDAR