BEGIN:VCALENDAR
VERSION:2.0
PRODID:calendify.com
BEGIN:VEVENT
UID:calendify-session-LPGMzx574Nd
DTSTART:20191228T171000Z
SEQUENCE:0
TRANSP:OPAQUE
DTEND:20191228T175000Z
URL:https://calendify.com/session/LPGMzx574Nd
LOCATION:Ada
SUMMARY:Harry Potter and the Not-So-Smart Proxy War
CLASS:PUBLIC
DESCRIPTION:https://calendify.com/session/LPGMzx574Nd
DTSTAMP:20260423T153436Z
CREATED:20200429T014045Z
LAST-MODIFIED:20200429T014045Z
END:VEVENT
END:VCALENDAR