BEGIN:VCALENDAR
VERSION:2.0
PRODID:calendify.com
BEGIN:VEVENT
UID:calendify-session-LPGMzxv74Nd
DTSTART:20191227T195000Z
SEQUENCE:0
TRANSP:OPAQUE
DTEND:20191227T212000Z
URL:https://calendify.com/session/LPGMzxv74Nd
LOCATION:Ada
SUMMARY:What the World can learn from Hongkong
CLASS:PUBLIC
DESCRIPTION:https://calendify.com/session/LPGMzxv74Nd
DTSTAMP:20260423T122601Z
CREATED:20200429T014026Z
LAST-MODIFIED:20200429T014026Z
END:VEVENT
END:VCALENDAR