BEGIN:VCALENDAR
VERSION:2.0
PRODID:calendify.com
BEGIN:VEVENT
UID:calendify-session-P2ROe5klOQW
DTSTART:20230607T153000Z
SEQUENCE:0
TRANSP:OPAQUE
DTEND:20230607T160000Z
URL:https://calendify.com/session/P2ROe5klOQW
LOCATION:Trödelhalle
SUMMARY:A Decentralized Right to Breathe?
CLASS:PUBLIC
DESCRIPTION:https://calendify.com/session/P2ROe5klOQW
DTSTAMP:20260423T230442Z
CREATED:20230604T163802Z
LAST-MODIFIED:20230606T124205Z
END:VEVENT
END:VCALENDAR