BEGIN:VCALENDAR
VERSION:2.0
PRODID:calendify.com
BEGIN:VEVENT
UID:calendify-session-P2ROe5wzOQW
DTSTART:20230605T114500Z
SEQUENCE:0
TRANSP:OPAQUE
DTEND:20230605T124500Z
URL:https://calendify.com/session/P2ROe5wzOQW
LOCATION:Workshop Flutgraben
SUMMARY:Bürokratie hacken: Arbeit\, Inklusion und soziale Absicherung neu 
 denken!
CLASS:PUBLIC
DESCRIPTION:https://calendify.com/session/P2ROe5wzOQW
DTSTAMP:20260425T235005Z
CREATED:20230604T163806Z
LAST-MODIFIED:20230606T124205Z
END:VEVENT
END:VCALENDAR